BEGIN:VCALENDAR
VERSION:2.0
PRODID:-//deshalb.de - ECPv6.15.20//NONSGML v1.0//EN
CALSCALE:GREGORIAN
METHOD:PUBLISH
X-ORIGINAL-URL:https://deshalb.de
X-WR-CALDESC:Events for deshalb.de
REFRESH-INTERVAL;VALUE=DURATION:PT1H
X-Robots-Tag:noindex
X-PUBLISHED-TTL:PT1H
BEGIN:VTIMEZONE
TZID:Europe/Berlin
BEGIN:DAYLIGHT
TZOFFSETFROM:+0100
TZOFFSETTO:+0200
TZNAME:CEST
DTSTART:20230326T010000
END:DAYLIGHT
BEGIN:STANDARD
TZOFFSETFROM:+0200
TZOFFSETTO:+0100
TZNAME:CET
DTSTART:20231029T010000
END:STANDARD
BEGIN:DAYLIGHT
TZOFFSETFROM:+0100
TZOFFSETTO:+0200
TZNAME:CEST
DTSTART:20240331T010000
END:DAYLIGHT
BEGIN:STANDARD
TZOFFSETFROM:+0200
TZOFFSETTO:+0100
TZNAME:CET
DTSTART:20241027T010000
END:STANDARD
BEGIN:DAYLIGHT
TZOFFSETFROM:+0100
TZOFFSETTO:+0200
TZNAME:CEST
DTSTART:20250330T010000
END:DAYLIGHT
BEGIN:STANDARD
TZOFFSETFROM:+0200
TZOFFSETTO:+0100
TZNAME:CET
DTSTART:20251026T010000
END:STANDARD
END:VTIMEZONE
BEGIN:VEVENT
DTSTART;VALUE=DATE:20241016
DTEND;VALUE=DATE:20241021
DTSTAMP:20260421T152021
CREATED:20240903T200853Z
LAST-MODIFIED:20240904T180925Z
UID:231214-1729036800-1729468799@deshalb.de
SUMMARY:Frankfurter Buchmesse 2024
DESCRIPTION:The Frankfurt Book Fair 2024 is the world’s largest gathering for books and media\, offering a unique platform for showcasing the latest in book design\, typography\, and illustration. This event is a must-attend for graphic designers\, publishers\, and illustrators who want to explore the cutting-edge trends in the publishing industry. With over 7\,000 exhibitors from around the globe\, the fair is an invaluable opportunity for networking\, learning\, and inspiration in the world of graphic design.
URL:https://deshalb.de/event/frankfurter-buchmesse-2024/
ATTACH;FMTTYPE=image/jpeg:https://deshalb.de/wp-content/uploads/2024/09/deshalb_Desha_Nujsongsinn_GraphicDesign_Munich_GrafikDesign_CreativeDirection_Neufahrn_Freising_Design_Branding_Illustration13.jpg
END:VEVENT
END:VCALENDAR